BEGIN:VCALENDAR
VERSION:2.0
PRODID:-//carryme - Das Akustik Duo - ECPv6.15.20//NONSGML v1.0//EN
CALSCALE:GREGORIAN
METHOD:PUBLISH
X-WR-CALNAME:carryme - Das Akustik Duo
X-ORIGINAL-URL:https://carryme-akustikduo.de
X-WR-CALDESC:Veranstaltungen für carryme - Das Akustik Duo
REFRESH-INTERVAL;VALUE=DURATION:PT1H
X-Robots-Tag:noindex
X-PUBLISHED-TTL:PT1H
BEGIN:VTIMEZONE
TZID:Europe/Berlin
BEGIN:DAYLIGHT
TZOFFSETFROM:+0100
TZOFFSETTO:+0200
TZNAME:CEST
DTSTART:20250330T010000
END:DAYLIGHT
BEGIN:STANDARD
TZOFFSETFROM:+0200
TZOFFSETTO:+0100
TZNAME:CET
DTSTART:20251026T010000
END:STANDARD
BEGIN:DAYLIGHT
TZOFFSETFROM:+0100
TZOFFSETTO:+0200
TZNAME:CEST
DTSTART:20260329T010000
END:DAYLIGHT
BEGIN:STANDARD
TZOFFSETFROM:+0200
TZOFFSETTO:+0100
TZNAME:CET
DTSTART:20261025T010000
END:STANDARD
BEGIN:DAYLIGHT
TZOFFSETFROM:+0100
TZOFFSETTO:+0200
TZNAME:CEST
DTSTART:20270328T010000
END:DAYLIGHT
BEGIN:STANDARD
TZOFFSETFROM:+0200
TZOFFSETTO:+0100
TZNAME:CET
DTSTART:20271031T010000
END:STANDARD
END:VTIMEZONE
BEGIN:VEVENT
DTSTART;VALUE=DATE:20260101
DTEND;VALUE=DATE:20270101
DTSTAMP:20260419T143328
CREATED:20260304T064743Z
LAST-MODIFIED:20260304T065037Z
UID:3121-1767225600-1798761599@carryme-akustikduo.de
SUMMARY:Hochzeiten\, Privat-Events und Firmenfeiern werden hier nicht aufgeführt.
DESCRIPTION:Anfragen für eine Hochzeit\, Privatfeier oder Firmenevent bitte über das Kontaktformular.
URL:https://carryme-akustikduo.de/events/hochzeiten-privat-events-und-firmenfeiern-werden-hier-nicht-dargestellt/
END:VEVENT
BEGIN:VEVENT
DTSTART;TZID=Europe/Berlin:20260501T120000
DTEND;TZID=Europe/Berlin:20260501T130000
DTSTAMP:20260419T143328
CREATED:20260303T064813Z
LAST-MODIFIED:20260304T062858Z
UID:3073-1777636800-1777640400@carryme-akustikduo.de
SUMMARY:1. Mai Konzert auf dem Kastanienplaz
DESCRIPTION:Dieses Jahr begleiten wir wieder das Maibaum Aufstellen mit unserer Musik und wir hoffen auf das schöne Wetter wie in den letzten Jahren. Kommt vorbei und startet mit uns gemeinsam in den ersten Mai. \nKein Eintritt
URL:https://carryme-akustikduo.de/events/1-mai-konzert-auf-dem-kastanienplaz/
LOCATION:Stadt Garbsen – Kastanienplatz\, Kastanienplatz\, Garbsen\, 30823
END:VEVENT
BEGIN:VEVENT
DTSTART;TZID=Europe/Berlin:20260510T140000
DTEND;TZID=Europe/Berlin:20260510T170000
DTSTAMP:20260419T143328
CREATED:20260303T065445Z
LAST-MODIFIED:20260304T062828Z
UID:3076-1778421600-1778432400@carryme-akustikduo.de
SUMMARY:Residenzfest
DESCRIPTION:nähere Infos folgen
URL:https://carryme-akustikduo.de/events/residenzfest/
LOCATION:Hahne Residenz „Rethen an der Leine“\, Doktor-Alex-Schönberg-Straße 1\, Laatzen\, 30880
END:VEVENT
BEGIN:VEVENT
DTSTART;TZID=Europe/Berlin:20260612T183000
DTEND;TZID=Europe/Berlin:20260612T220000
DTSTAMP:20260419T143328
CREATED:20260303T065648Z
LAST-MODIFIED:20260313T070323Z
UID:3079-1781289000-1781301600@carryme-akustikduo.de
SUMMARY:Zoo Hannover - Weinreise
DESCRIPTION:Eine Weinreise\nWenn die Sonne langsam untergeht und der Zoo in goldenes Licht getaucht wird\, beginnt eine ganz besondere Reise: eine Weinweltreise durch die faszinierenden Themenwelten des Zoos. Lassen Sie sich treiben – von Kontinent zu Kontinent\, von Geschmack zu Geschmack\, von Moment zu Moment. \nErleben Sie den Zoo einmal ganz anders: mit einem Glas erlesenen Wein in der Hand\, begleitet von stimmungsvoller Musik\, kulinarischen Highlights und einer Atmosphäre\, die zum Träumen einlädt. Jede Station auf Ihrem Weg erzählt ihre eigene Geschichte – sinnlich\, überraschend und voller Genuss. \n\nSpritzige Sommerweine bei den Pelikanen entführen Sie ans Wasser.\nMediterrane Aromen und passende Tropfen im Café Kifaru wecken Urlaubsgefühle.\nEdle Schaumweine und hausgemachte Eisvariationen an der Gelateria verführen zum süßen Innehalten.\nIn der Yukon Market Hall treffen ausgewählte Weine auf leichte Fischgerichte\, frische Salate und herzhafte Burger – ein Hauch Kalifornien mitten in Nordamerika.\nAls besonderes Highlight können Sie an diesem Abend sowohl bei der Bootsfahrt als auch bei Ihrem Spaziergang durch den Zoo ausgewählte Tiere in stimmungsvoller Atmosphäre beobachten.\n\nFreuen Sie sich zum Auftakt auf einen kleinen Willkommensschluck\, der zusammen mit dem Weinglas im Ticket enthalten ist. Danach wählen Sie Ihre Lieblingsweine aus und können einzelne Gläser oder auch Flaschen direkt am Stand kaufen. Dazu erwarten Sie auf die Weine abgestimmte Spezialitäten\, die ebenfalls an den jeweiligen Stationen erhältlich sind. \nSo genießen Sie den Abend flexibel und entdecken genau die Weine und Köstlichkeiten\, die Ihren Besuch besonders machen. \nFlanieren Sie durch den Zoo\, entdecken Sie Ihre Lieblingsweine und genießen Sie die besondere Abendstimmung zwischen Lichtern\, Musik und tierischen Kulissen. Diese genussvolle Weltreise ist mehr als ein Event – sie ist ein Erlebnis für alle Sinne. \nOb mit dem Freundeskreis\, Partnern oder Kollegium – dieser Abend lädt zum Spazieren\, Genießen und Staunen ein. Und wer aufmerksam bleibt\, entdeckt vielleicht noch die ein oder andere Überraschung entlang des Weges.
URL:https://carryme-akustikduo.de/events/zoo-hannover-weinreise/
LOCATION:Zoo Hannover\, Adenauerallee 1\, Hannover\, 30175
END:VEVENT
BEGIN:VEVENT
DTSTART;TZID=Europe/Berlin:20260613T183000
DTEND;TZID=Europe/Berlin:20260613T220000
DTSTAMP:20260419T143328
CREATED:20260303T065745Z
LAST-MODIFIED:20260313T070203Z
UID:3083-1781375400-1781388000@carryme-akustikduo.de
SUMMARY:Zoo Hannover - Weinreise
DESCRIPTION:Eine Weinreise\nWenn die Sonne langsam untergeht und der Zoo in goldenes Licht getaucht wird\, beginnt eine ganz besondere Reise: eine Weinweltreise durch die faszinierenden Themenwelten des Zoos. Lassen Sie sich treiben – von Kontinent zu Kontinent\, von Geschmack zu Geschmack\, von Moment zu Moment. \nErleben Sie den Zoo einmal ganz anders: mit einem Glas erlesenen Wein in der Hand\, begleitet von stimmungsvoller Musik\, kulinarischen Highlights und einer Atmosphäre\, die zum Träumen einlädt. Jede Station auf Ihrem Weg erzählt ihre eigene Geschichte – sinnlich\, überraschend und voller Genuss. \n\nSpritzige Sommerweine bei den Pelikanen entführen Sie ans Wasser.\nMediterrane Aromen und passende Tropfen im Café Kifaru wecken Urlaubsgefühle.\nEdle Schaumweine und hausgemachte Eisvariationen an der Gelateria verführen zum süßen Innehalten.\nIn der Yukon Market Hall treffen ausgewählte Weine auf leichte Fischgerichte\, frische Salate und herzhafte Burger – ein Hauch Kalifornien mitten in Nordamerika.\nAls besonderes Highlight können Sie an diesem Abend sowohl bei der Bootsfahrt als auch bei Ihrem Spaziergang durch den Zoo ausgewählte Tiere in stimmungsvoller Atmosphäre beobachten.\n\nFreuen Sie sich zum Auftakt auf einen kleinen Willkommensschluck\, der zusammen mit dem Weinglas im Ticket enthalten ist. Danach wählen Sie Ihre Lieblingsweine aus und können einzelne Gläser oder auch Flaschen direkt am Stand kaufen. Dazu erwarten Sie auf die Weine abgestimmte Spezialitäten\, die ebenfalls an den jeweiligen Stationen erhältlich sind. \nSo genießen Sie den Abend flexibel und entdecken genau die Weine und Köstlichkeiten\, die Ihren Besuch besonders machen. \nFlanieren Sie durch den Zoo\, entdecken Sie Ihre Lieblingsweine und genießen Sie die besondere Abendstimmung zwischen Lichtern\, Musik und tierischen Kulissen. Diese genussvolle Weltreise ist mehr als ein Event – sie ist ein Erlebnis für alle Sinne. \nOb mit dem Freundeskreis\, Partnern oder Kollegium – dieser Abend lädt zum Spazieren\, Genießen und Staunen ein. Und wer aufmerksam bleibt\, entdeckt vielleicht noch die ein oder andere Überraschung entlang des Weges.
URL:https://carryme-akustikduo.de/events/zoo-hannover-weinreise-2/
LOCATION:Zoo Hannover\, Adenauerallee 1\, Hannover\, 30175
END:VEVENT
BEGIN:VEVENT
DTSTART;TZID=Europe/Berlin:20260621T120000
DTEND;TZID=Europe/Berlin:20260621T153000
DTSTAMP:20260419T143328
CREATED:20260303T071027Z
LAST-MODIFIED:20260304T070045Z
UID:3093-1782043200-1782055800@carryme-akustikduo.de
SUMMARY:Stadtfest Garbsen
DESCRIPTION:nähere Infos folgen. Kein Eintritt
URL:https://carryme-akustikduo.de/events/stadtfest-garbsen/
LOCATION:Stadt Garbsen – Rathausplatz\, Rathausplatz 1\, Garbsen\, 30823
END:VEVENT
BEGIN:VEVENT
DTSTART;TZID=Europe/Berlin:20260830T140000
DTEND;TZID=Europe/Berlin:20260830T170000
DTSTAMP:20260419T143328
CREATED:20260303T070029Z
LAST-MODIFIED:20260304T062700Z
UID:3085-1788098400-1788109200@carryme-akustikduo.de
SUMMARY:Residenzfest
DESCRIPTION:nähere Infos folgen
URL:https://carryme-akustikduo.de/events/residenzfest-2/
LOCATION:Residenz Steinhuder Meer\, Warteweg 13\, Neustadt\, 31535
END:VEVENT
BEGIN:VEVENT
DTSTART;TZID=Europe/Berlin:20261018T000000
DTEND;TZID=Europe/Berlin:20261018T000000
DTSTAMP:20260419T143328
CREATED:20260303T071626Z
LAST-MODIFIED:20260304T065826Z
UID:3100-1792281600-1792281600@carryme-akustikduo.de
SUMMARY:Cindy mit 50er & 60er Jahren Schlagermusik
DESCRIPTION:nähere Infos folgen
URL:https://carryme-akustikduo.de/events/cindy-mit-50er-60er-jahren-schlagermusik/
LOCATION:Hafenbar in Seelze
END:VEVENT
BEGIN:VEVENT
DTSTART;TZID=Europe/Berlin:20261113T190000
DTEND;TZID=Europe/Berlin:20261113T200000
DTSTAMP:20260419T143328
CREATED:20260303T071441Z
LAST-MODIFIED:20260304T062546Z
UID:3097-1794596400-1794600000@carryme-akustikduo.de
SUMMARY:Konzert in der Horster Kirche
DESCRIPTION:nähere Infos folgen\nEintritt kostenlos
URL:https://carryme-akustikduo.de/events/konzert-in-der-horster-kirche/
LOCATION:Ev.-luth. Kirche Horst\, Andreaestraße 9\, Garbsen\, 30826
END:VEVENT
END:VCALENDAR