BEGIN:VCALENDAR
VERSION:2.0
PRODID:-//carryme - Das Akustik Duo - ECPv6.15.20//NONSGML v1.0//EN
CALSCALE:GREGORIAN
METHOD:PUBLISH
X-ORIGINAL-URL:https://carryme-akustikduo.de
X-WR-CALDESC:Veranstaltungen für carryme - Das Akustik Duo
REFRESH-INTERVAL;VALUE=DURATION:PT1H
X-Robots-Tag:noindex
X-PUBLISHED-TTL:PT1H
BEGIN:VTIMEZONE
TZID:Europe/Berlin
BEGIN:DAYLIGHT
TZOFFSETFROM:+0100
TZOFFSETTO:+0200
TZNAME:CEST
DTSTART:20250330T010000
END:DAYLIGHT
BEGIN:STANDARD
TZOFFSETFROM:+0200
TZOFFSETTO:+0100
TZNAME:CET
DTSTART:20251026T010000
END:STANDARD
BEGIN:DAYLIGHT
TZOFFSETFROM:+0100
TZOFFSETTO:+0200
TZNAME:CEST
DTSTART:20260329T010000
END:DAYLIGHT
BEGIN:STANDARD
TZOFFSETFROM:+0200
TZOFFSETTO:+0100
TZNAME:CET
DTSTART:20261025T010000
END:STANDARD
BEGIN:DAYLIGHT
TZOFFSETFROM:+0100
TZOFFSETTO:+0200
TZNAME:CEST
DTSTART:20270328T010000
END:DAYLIGHT
BEGIN:STANDARD
TZOFFSETFROM:+0200
TZOFFSETTO:+0100
TZNAME:CET
DTSTART:20271031T010000
END:STANDARD
END:VTIMEZONE
BEGIN:VEVENT
DTSTART;TZID=Europe/Berlin:20260417T190000
DTEND;TZID=Europe/Berlin:20260417T210000
DTSTAMP:20260423T203828
CREATED:20260303T062310Z
LAST-MODIFIED:20260304T065854Z
UID:3067-1776452400-1776459600@carryme-akustikduo.de
SUMMARY:Wohnzimmerkonzert im Kalle
DESCRIPTION:Unser jährliches Kalle Konzert steht wieder bevor und wir freuen uns riesig darauf! Wer hat Lust dabei zu sein?\nKarten können entweder bei uns oder direkt im Kalle bestellt werden:\ninfo@carryme.de kalle@garbsen.de\n\nDer Eintritt kostet wie immer: 20 Euro und bezahlt wird vor Ort.\nEine Bitte\, da letztes Mal sehr viele Leute reserviert haben und nicht erschienen sind\, bitte sagt ab\, wenn ihr nicht könnt\, damit wir diejenigen anschreiben können\, die auf der Warteliste stehen\, denn ins Kalle passen „nur“ 100 Personen. Oder verschenkt die „Karten“.\n\nWir freuen uns auf euch!!
URL:https://carryme-akustikduo.de/events/wohnzimmerkonzert-im-kalle/
LOCATION:Kalle Garbsen\, An der Feuerwache\, Garbsen\, 30823
END:VEVENT
BEGIN:VEVENT
DTSTART;TZID=Europe/Berlin:20260314T140000
DTEND;TZID=Europe/Berlin:20260314T210000
DTSTAMP:20260423T203828
CREATED:20260301T171735Z
LAST-MODIFIED:20260304T063135Z
UID:3000-1773496800-1773522000@carryme-akustikduo.de
SUMMARY:Hochzeitsmesse - Ein Hauch von Hochzeit in Remeringhausen
DESCRIPTION:Ein Hauch von Hochzeit im Gut Remeringhausen ist euer Inspiration Day für stilvolle Hochzeiten in historischer Atmosphäre: eine exklusive Auswahl handverlesener Dienstleister\, kuratiert für Paare\, die mehr wollen als Standard. \nWir von CarryMe Akustik Duo sind vor Ort und freuen uns auf persönliche Begegnungen. Kommt vorbei\, erzählt uns von euren Ideen und hört direkt rein: Wir spielen euch gerne Songs vor\, passend zu eurem Konzept\, eurer Stimmung und eurem Tag.Der Eintritt ist kostenlos!
URL:https://carryme-akustikduo.de/events/hochzeitsmesse-gut-remerinhausen/
LOCATION:Gut Remeringhausen\, Heuerßer Str. 25\, Stadthagen\, 31655
ATTACH;FMTTYPE=image/jpeg:https://carryme-akustikduo.de/wp-content/uploads/2026/03/Logo-EHVH_remeringhausen_.jpg
END:VEVENT
END:VCALENDAR